BEGIN:VCALENDAR
VERSION:2.0
PRODID:-//Family Life Coaching Association - ECPv6.15.18//NONSGML v1.0//EN
CALSCALE:GREGORIAN
METHOD:PUBLISH
X-ORIGINAL-URL:https://flcassociation.org
X-WR-CALDESC:Events for Family Life Coaching Association
REFRESH-INTERVAL;VALUE=DURATION:PT1H
X-Robots-Tag:noindex
X-PUBLISHED-TTL:PT1H
BEGIN:VTIMEZONE
TZID:America/New_York
BEGIN:DAYLIGHT
TZOFFSETFROM:-0500
TZOFFSETTO:-0400
TZNAME:EDT
DTSTART:20220313T070000
END:DAYLIGHT
BEGIN:STANDARD
TZOFFSETFROM:-0400
TZOFFSETTO:-0500
TZNAME:EST
DTSTART:20221106T060000
END:STANDARD
BEGIN:DAYLIGHT
TZOFFSETFROM:-0500
TZOFFSETTO:-0400
TZNAME:EDT
DTSTART:20230312T070000
END:DAYLIGHT
BEGIN:STANDARD
TZOFFSETFROM:-0400
TZOFFSETTO:-0500
TZNAME:EST
DTSTART:20231105T060000
END:STANDARD
BEGIN:DAYLIGHT
TZOFFSETFROM:-0500
TZOFFSETTO:-0400
TZNAME:EDT
DTSTART:20240310T070000
END:DAYLIGHT
BEGIN:STANDARD
TZOFFSETFROM:-0400
TZOFFSETTO:-0500
TZNAME:EST
DTSTART:20241103T060000
END:STANDARD
END:VTIMEZONE
BEGIN:VEVENT
DTSTART;TZID=America/New_York:20231011T120000
DTEND;TZID=America/New_York:20231011T130000
DTSTAMP:20260422T141302
CREATED:20230928T151240Z
LAST-MODIFIED:20230928T151301Z
UID:10000048-1697025600-1697029200@flcassociation.org
SUMMARY:Emotional Intelligence Fundamentals for Family Coaches
DESCRIPTION:Join us for an introduction to the core concept of emotional intelligence and how family coaches can integrate them into their practice to facilitate better client outcomes. \nHost: Oluwatoyin Ogunkanmi \nThe Zoom link will be sent out before the webinar.
URL:https://flcassociation.org/event/emotional-intelligence-fundamentals-for-family-coaches/
LOCATION:Via Zoom\, NC\, United States
ATTACH;FMTTYPE=image/jpeg:https://flcassociation.org/wp-content/uploads/2023/09/October-11-webinar.jpg
ORGANIZER;CN="Ali Tepper":MAILTO:alisonmaritepper@gmail.com
END:VEVENT
BEGIN:VEVENT
DTSTART;TZID=America/New_York:20230930T130000
DTEND;TZID=America/New_York:20230930T140000
DTSTAMP:20260422T141302
CREATED:20230913T225229Z
LAST-MODIFIED:20230915T123634Z
UID:10000047-1696078800-1696082400@flcassociation.org
SUMMARY:Global Family Life Coaching Day
DESCRIPTION:Did you know Global Family Life Coaching Day is September 30th? Join us to acknowledge and celebrate the impactful work you do with families. We’ll share how we plan to support you this year through advocacy and policy work\, continuing education credits\, the Family Life Coaching credential\, and other membership perks! To celebrate\, join our free webinar to learn what’s new with FLCA and how we support coaches. RSVP below! \nYou will be sent the zoom link before the event.
URL:https://flcassociation.org/event/global-family-life-coaching-day/
LOCATION:Via Zoom\, NC\, United States
ATTACH;FMTTYPE=image/jpeg:https://flcassociation.org/wp-content/uploads/2023/09/Global-Life-Coaching-Day.jpg
ORGANIZER;CN="Ali Tepper":MAILTO:alisonmaritepper@gmail.com
END:VEVENT
BEGIN:VEVENT
DTSTART;TZID=America/New_York:20230614T120000
DTEND;TZID=America/New_York:20230614T130000
DTSTAMP:20260422T141302
CREATED:20230530T141652Z
LAST-MODIFIED:20230607T112458Z
UID:10000045-1686744000-1686747600@flcassociation.org
SUMMARY:Building Equitable Early Learning Programs
DESCRIPTION:Creating equitable learning environments requires teachers\, administrators\, and support staff to have a deep understanding of the racial inequities that children of color experience. To do that\, education must deconstruct anti-Blackness and whiteness in educational settings. Hosted by Dr. Ebonyse Mead.
URL:https://flcassociation.org/event/building-equitable-early-learning-programs/
LOCATION:Via Zoom\, NC\, United States
ATTACH;FMTTYPE=image/jpeg:https://flcassociation.org/wp-content/uploads/2023/05/June-event-1.jpg
ORGANIZER;CN="Ali Tepper":MAILTO:alisonmaritepper@gmail.com
END:VEVENT
BEGIN:VEVENT
DTSTART;TZID=America/New_York:20230517T120000
DTEND;TZID=America/New_York:20230517T130000
DTSTAMP:20260422T141302
CREATED:20230426T221917Z
LAST-MODIFIED:20230426T221917Z
UID:10000044-1684324800-1684328400@flcassociation.org
SUMMARY:Reaching the Invisible: Equitable & Quality Coaching for Clients with Intellectual Disabilities and Their Families
DESCRIPTION:Learn how to equitably assist clients either previously classified with an Intellectual disability or clients who were not classified but exhibit characteristics of an Intellectual disability and desire to improve their quality of life. You’ll learn about “invisible” disabilities\, how these may manifest in a session\, coaching strategies\, types of support for the family\, and the importance of self-care for coaches. \nHost: Rene Edghill-Smith
URL:https://flcassociation.org/event/reaching-the-invisible-equitable-quality-coaching-for-clients-with-intellectual-disabilities-and-their-families/
LOCATION:Via Zoom\, NC\, United States
ORGANIZER;CN="Ali Tepper":MAILTO:alisonmaritepper@gmail.com
END:VEVENT
END:VCALENDAR