BEGIN:VCALENDAR
VERSION:2.0
PRODID:-//Family Life Coaching Association - ECPv6.15.18//NONSGML v1.0//EN
CALSCALE:GREGORIAN
METHOD:PUBLISH
X-ORIGINAL-URL:https://flcassociation.org
X-WR-CALDESC:Events for Family Life Coaching Association
REFRESH-INTERVAL;VALUE=DURATION:PT1H
X-Robots-Tag:noindex
X-PUBLISHED-TTL:PT1H
BEGIN:VTIMEZONE
TZID:America/New_York
BEGIN:DAYLIGHT
TZOFFSETFROM:-0500
TZOFFSETTO:-0400
TZNAME:EDT
DTSTART:20220313T070000
END:DAYLIGHT
BEGIN:STANDARD
TZOFFSETFROM:-0400
TZOFFSETTO:-0500
TZNAME:EST
DTSTART:20221106T060000
END:STANDARD
BEGIN:DAYLIGHT
TZOFFSETFROM:-0500
TZOFFSETTO:-0400
TZNAME:EDT
DTSTART:20230312T070000
END:DAYLIGHT
BEGIN:STANDARD
TZOFFSETFROM:-0400
TZOFFSETTO:-0500
TZNAME:EST
DTSTART:20231105T060000
END:STANDARD
BEGIN:DAYLIGHT
TZOFFSETFROM:-0500
TZOFFSETTO:-0400
TZNAME:EDT
DTSTART:20240310T070000
END:DAYLIGHT
BEGIN:STANDARD
TZOFFSETFROM:-0400
TZOFFSETTO:-0500
TZNAME:EST
DTSTART:20241103T060000
END:STANDARD
END:VTIMEZONE
BEGIN:VEVENT
DTSTART;TZID=America/New_York:20230619T130000
DTEND;TZID=America/New_York:20230619T140000
DTSTAMP:20260422T141145
CREATED:20230609T164242Z
LAST-MODIFIED:20230609T164513Z
UID:10000046-1687179600-1687183200@flcassociation.org
SUMMARY:Coffee Chat
DESCRIPTION:This Coffee Chat will be a follow-up to the Webinar with Dr. Ebonyse Mead: “Building Equitable Early Learning Programs” \nGoogle Meets link: https://meet.google.com/ueu-fqry-zwa
URL:https://flcassociation.org/event/coffee-chat/
ATTACH;FMTTYPE=image/jpeg:https://flcassociation.org/wp-content/uploads/2023/06/Coffee-Chat-2.jpg
ORGANIZER;CN="Kayla Bereijo":MAILTO:kaylabereijo@gmail.com
END:VEVENT
END:VCALENDAR