BEGIN:VCALENDAR
VERSION:2.0
PRODID:-//Family Life Coaching Association - ECPv6.15.18//NONSGML v1.0//EN
CALSCALE:GREGORIAN
METHOD:PUBLISH
X-ORIGINAL-URL:https://flcassociation.org
X-WR-CALDESC:Events for Family Life Coaching Association
REFRESH-INTERVAL;VALUE=DURATION:PT1H
X-Robots-Tag:noindex
X-PUBLISHED-TTL:PT1H
BEGIN:VTIMEZONE
TZID:America/Chicago
BEGIN:DAYLIGHT
TZOFFSETFROM:-0600
TZOFFSETTO:-0500
TZNAME:CDT
DTSTART:20220313T080000
END:DAYLIGHT
BEGIN:STANDARD
TZOFFSETFROM:-0500
TZOFFSETTO:-0600
TZNAME:CST
DTSTART:20221106T070000
END:STANDARD
BEGIN:DAYLIGHT
TZOFFSETFROM:-0600
TZOFFSETTO:-0500
TZNAME:CDT
DTSTART:20230312T080000
END:DAYLIGHT
BEGIN:STANDARD
TZOFFSETFROM:-0500
TZOFFSETTO:-0600
TZNAME:CST
DTSTART:20231105T070000
END:STANDARD
BEGIN:DAYLIGHT
TZOFFSETFROM:-0600
TZOFFSETTO:-0500
TZNAME:CDT
DTSTART:20240310T080000
END:DAYLIGHT
BEGIN:STANDARD
TZOFFSETFROM:-0500
TZOFFSETTO:-0600
TZNAME:CST
DTSTART:20241103T070000
END:STANDARD
END:VTIMEZONE
BEGIN:VEVENT
DTSTART;TZID=America/Chicago:20230706T090000
DTEND;TZID=America/Chicago:20230708T160000
DTSTAMP:20260422T132011
CREATED:20230131T005954Z
LAST-MODIFIED:20230619T162000Z
UID:10000040-1688634000-1688832000@flcassociation.org
SUMMARY:6th Annual Family Life Coaching Association Conference-Texas 2023
DESCRIPTION:Approved for 8.0 hours of CFLE continuing education credit.\nJuly 6-8 2023 9 am-4 pm Central Time\nIn-Person $75/$195Virtual $50\nThe Family Life Coaching Association ( FLCA) will hold its 2023 annual conference in San Marcos\, TX with this year’s theme :  \nExpanding Our Reach: Understanding and Implementing Family Life Coaching Across Sociocultural Contexts. \nThe 2023 FLCA conference theme brings together family life coaches and various stakeholders in the family life space to deliberate on expanding our reach by understanding and implementing family life coaching across sociocultural contexts. We also welcome those with a desire to learn about coaching (as a profession or a skill set)\, and those interested in up-to-date information on a variety of topics\, including:  \n\nUnderstanding and implementing family life coaching across sociocultural contexts\nSelf-care and mental wellness for the coach\nContent creation & product development \nLeveraging social media and tech to scale your practice \nBuilding a successful family life coaching business across sociocultural contexts\nCoaching and cultural realities: Becoming a global family life coach (North America\, South America\, Africa & Asia)  \nBlended family life coaching realities\, diversity and inclusion \nEffective family life coaching research\, credentialing  and innovations\nFamily life coaching for the special needs population\n\n\n\n\n\n\n\n\n\n\n\n\n\n\nAt FLCA\, we dream of a world where all families can receive the support they need to live happy and healthy lives. The 2023 conference brings together those who serve families whether as a home visitor\, a family life coach or a family life educator.\n\n\n\n\n\n\n\nHotels\n\n\n\n\nBook your lodging at these special FLCA rates NOW! Rooms are limited. \nOption 1: \nHilton Inn San Marcos at 2131 N. Hwy 35\, San Marcos\, TX 78666 (512) 878-4411 \nNote: NO breakfast.  \nPlease note that a light snack is provided in the morning at the conference.  \nOption 2: \nHampton Inn & Suites San Marcos at 106 IH 35 S\, San Marcos\, TX 7866  (512) 754-7707 \nNote: the Hampton Inn is NOT THE CONVENTION CENTER location. Some people confuse the two. \nNote 2: the Hampton Inn does include a “Cold Grab N Go” breakfast with the nightly room price. \n\nA recording of the conference will be available to registrants only\, for 30 days after the conference.
URL:https://flcassociation.org/event/flca-conference-2023/
LOCATION:Texas State University\, 601 University Dr\, San Marcos\,\, San Marcos\, TX\, 78666\, United States
ATTACH;FMTTYPE=image/jpeg:https://flcassociation.org/wp-content/uploads/2023/01/conference.jpg
ORGANIZER;CN="Phyllis Cauthen":MAILTO:info@flcassociation.org
END:VEVENT
END:VCALENDAR